BEGIN:VCALENDAR
VERSION:2.0
PRODID:-//Hétéroclite - ECPv5.16.1.1//NONSGML v1.0//EN
CALSCALE:GREGORIAN
METHOD:PUBLISH
X-WR-CALNAME:Hétéroclite
X-ORIGINAL-URL:https://www.heteroclite.org
X-WR-CALDESC:évènements pour Hétéroclite
BEGIN:VTIMEZONE
TZID:Europe/Helsinki
BEGIN:DAYLIGHT
TZOFFSETFROM:+0200
TZOFFSETTO:+0300
TZNAME:EEST
DTSTART:20180325T010000
END:DAYLIGHT
BEGIN:STANDARD
TZOFFSETFROM:+0300
TZOFFSETTO:+0200
TZNAME:EET
DTSTART:20181028T010000
END:STANDARD
END:VTIMEZONE
BEGIN:VEVENT
DTSTART;TZID=Europe/Helsinki:20180620T200000
DTEND;TZID=Europe/Helsinki:20180620T230000
DTSTAMP:20260419T205130
CREATED:20180507T121616Z
LAST-MODIFIED:20180507T121616Z
UID:51414-1529524800-1529535600@www.heteroclite.org
SUMMARY:Soirée débat sur la PMA organisée par la Lesbian & Gay Pride de Lyon
DESCRIPTION:La 23ème Marche des Fiertés LGBTI de Lyon aura lieu le 16 juin 2018. La Marche des Fiertés LGBTI est organisée\, comme chaque année\, par la Lesbian and Gay Pride de Lyon avec de nombreux syndicats\, partis politiques\, associations de défense des droits humains et de commerces LGBT et friendly. C’est dans la continuité de cet événement que l’association organise une soirée débat sur la PMA.\nPlus d’infos sur la soirée débat ayant pour thème la PMA prochainement ici.
URL:https://www.heteroclite.org/evenement-heteroclite/soiree-debat-sur-la-pma-lyon
LOCATION:Centre LGBTI de Lyon\, 19 rue des Capucins\, Lyon 1\, Rhône-Alpes\, 69001\, France
END:VEVENT
END:VCALENDAR