BEGIN:VCALENDAR
VERSION:2.0
PRODID:-//Hétéroclite - ECPv5.16.1.1//NONSGML v1.0//EN
CALSCALE:GREGORIAN
METHOD:PUBLISH
X-WR-CALNAME:Hétéroclite
X-ORIGINAL-URL:https://www.heteroclite.org
X-WR-CALDESC:évènements pour Hétéroclite
BEGIN:VTIMEZONE
TZID:Europe/Helsinki
BEGIN:DAYLIGHT
TZOFFSETFROM:+0200
TZOFFSETTO:+0300
TZNAME:EEST
DTSTART:20170326T010000
END:DAYLIGHT
BEGIN:STANDARD
TZOFFSETFROM:+0300
TZOFFSETTO:+0200
TZNAME:EET
DTSTART:20171029T010000
END:STANDARD
END:VTIMEZONE
BEGIN:VEVENT
DTSTART;TZID=Europe/Helsinki:20170624T200000
DTEND;TZID=Europe/Helsinki:20170625T060000
DTSTAMP:20260423T191327
CREATED:20170621T151404Z
LAST-MODIFIED:20170621T151404Z
UID:44530-1498334400-1498370400@www.heteroclite.org
SUMMARY:Soirée Fetish Délices à l'Auberge des désirs - Les Echets
DESCRIPTION:La soirée Fetish Délices se déroulera à l’Auberge des désirs des Echets (à cinq minutes de Lyon). En exclusivité\, l’auteur Maryssa Rachel lira un extrait de son dernier livre\, Outrage.\nLe concept Fetish Délices et Equalizer vient de Paris : apéritifs xtrème\, repas\, dance floor et la présence du Marquis Tatoo. Tout se passera à l’Auberge des Désirs aux Echets le 24 juin. Dress code : Cuir-latex-vinyle\, extravagant\, oversexy.
URL:https://www.heteroclite.org/evenement-heteroclite/soiree-fetish-delices-a-lauberge-desirs-echets
LOCATION:L’Auberge des Désirs\, Les Echets\, Miribel \, 01700\, France
END:VEVENT
END:VCALENDAR