BEGIN:VCALENDAR
VERSION:2.0
PRODID:-//Hétéroclite - ECPv5.16.1.1//NONSGML v1.0//EN
CALSCALE:GREGORIAN
METHOD:PUBLISH
X-WR-CALNAME:Hétéroclite
X-ORIGINAL-URL:https://www.heteroclite.org
X-WR-CALDESC:évènements pour Hétéroclite
BEGIN:VTIMEZONE
TZID:Europe/Helsinki
BEGIN:DAYLIGHT
TZOFFSETFROM:+0200
TZOFFSETTO:+0300
TZNAME:EEST
DTSTART:20150329T010000
END:DAYLIGHT
BEGIN:STANDARD
TZOFFSETFROM:+0300
TZOFFSETTO:+0200
TZNAME:EET
DTSTART:20151025T010000
END:STANDARD
END:VTIMEZONE
BEGIN:VEVENT
DTSTART;TZID=Europe/Helsinki:20150909T200000
DTEND;TZID=Europe/Helsinki:20150909T220000
DTSTAMP:20260423T150116
CREATED:20150825T080512Z
LAST-MODIFIED:20150825T080512Z
UID:25139-1441828800-1441836000@www.heteroclite.org
SUMMARY:Soirée-hommage à Christopher Lee
DESCRIPTION:En hommage à l’acteur anglais Christopher Lee (1922-2015)\, décédé en juin dernier à l’âge de 93 ans\, projection d’un de ses films\, Le Dieu d’Osier (The Wicker Man\, Grande-Bretagne\, 1973 – 1h24 – en 35mm et V.O.S.T.Fr). Présentation du film et débat animé par Ivan Mitifiot\, directeur du festival Écrans Mixtes. Vidéo-hommage et cadeaux à gagner.\n  \nSur une île de la Manche où d’ordinaire rien ne se passe\, des disparitions d’enfants finissent par alerter la police. L’enquête met au jour des événements étranges. La population semble se livrer à des cérémonies d’un autre âge…
URL:https://www.heteroclite.org/evenement-heteroclite/soiree-hommage-a-christopher-lee
LOCATION:Ciné-Mourguet\, 15 rue Deshaix\, Sainte-Foy-lès-Lyon\, 69110\, France
END:VEVENT
END:VCALENDAR