BEGIN:VCALENDAR
VERSION:2.0
PRODID:-//Hétéroclite - ECPv5.16.1.1//NONSGML v1.0//EN
CALSCALE:GREGORIAN
METHOD:PUBLISH
X-WR-CALNAME:Hétéroclite
X-ORIGINAL-URL:https://www.heteroclite.org
X-WR-CALDESC:évènements pour Hétéroclite
BEGIN:VTIMEZONE
TZID:Europe/Helsinki
BEGIN:DAYLIGHT
TZOFFSETFROM:+0200
TZOFFSETTO:+0300
TZNAME:EEST
DTSTART:20160327T010000
END:DAYLIGHT
BEGIN:STANDARD
TZOFFSETFROM:+0300
TZOFFSETTO:+0200
TZNAME:EET
DTSTART:20161030T010000
END:STANDARD
END:VTIMEZONE
BEGIN:VEVENT
DTSTART;TZID=Europe/Helsinki:20160709T200000
DTEND;TZID=Europe/Helsinki:20160710T050000
DTSTAMP:20260420T160348
CREATED:20150529T083600Z
LAST-MODIFIED:20160531T072022Z
UID:22579-1468094400-1468126800@www.heteroclite.org
SUMMARY:Soirée spéciale Lesbian & Gay Pride @ Le Marais
DESCRIPTION:Pour fêter la 21e marche des fiertés lyonnaise\, le club gay et lesbien Le Marais sera ouvert exceptionnellement dès 20h samedi 9 juillet.\nRien n’est trop beau pour célébrer la Gay Pride. A cette occasion\, le Marais vous offre l’entrée et même un buffet ! Il vous restera à débourser 2€ pour le vestiaire obligatoire. \nL’unique boîte lesbienne de France accueille logiquement surtout des filles mais aussi des gays. Il organise des soirées karaoké les jeudis à partir de 22h et parfois\, des soirées à thème le week-end et les veilles de jours fériés. A l’étage\, on peut commander un verre au bar\, s’en griller une au fumoir ou fricoter sur les canapés.
URL:https://www.heteroclite.org/evenement-heteroclite/soiree-lesbian-and-gay-pride-le-marais
END:VEVENT
END:VCALENDAR