BEGIN:VCALENDAR
VERSION:2.0
PRODID:-//Hétéroclite - ECPv5.16.1.1//NONSGML v1.0//EN
CALSCALE:GREGORIAN
METHOD:PUBLISH
X-WR-CALNAME:Hétéroclite
X-ORIGINAL-URL:https://www.heteroclite.org
X-WR-CALDESC:évènements pour Hétéroclite
BEGIN:VTIMEZONE
TZID:Europe/Helsinki
BEGIN:DAYLIGHT
TZOFFSETFROM:+0200
TZOFFSETTO:+0300
TZNAME:EEST
DTSTART:20140330T010000
END:DAYLIGHT
BEGIN:STANDARD
TZOFFSETFROM:+0300
TZOFFSETTO:+0200
TZNAME:EET
DTSTART:20141026T010000
END:STANDARD
END:VTIMEZONE
BEGIN:VEVENT
DTSTART;TZID=Europe/Helsinki:20141025T203000
DTEND;TZID=Europe/Helsinki:20141025T203000
DTSTAMP:20260421T033436
CREATED:20140626T063921Z
LAST-MODIFIED:20141019T191544Z
UID:11271-1414269000-1414269000@www.heteroclite.org
SUMMARY:Soirée "O sole mio" @ Le Vixen Bar
DESCRIPTION:Soirée italienne au Vixen Bar : mojito au limocello\, spritz\, pizzas de la cantina d’Anna et récital de chansons italiennes par Antonella.\n  \nLe Vixen Bar (www.facebook.com/profile.php?id=100001080524365) propose le midi de grandes salades composées ou des plats en sauce selon la saison. Essentiellement lesbienne lors de son ouverture\, sa clientèle s’est depuis grandement diversifiée. Il n’est pas rare de voir des clients venir avec leurs instruments pour improviser un bœuf près du comptoir…
URL:https://www.heteroclite.org/evenement-heteroclite/soiree-o-sole-mio-le-vixen-bar-grenoble
END:VEVENT
END:VCALENDAR