BEGIN:VCALENDAR
VERSION:2.0
PRODID:-//Hétéroclite - ECPv5.16.1.1//NONSGML v1.0//EN
CALSCALE:GREGORIAN
METHOD:PUBLISH
X-WR-CALNAME:Hétéroclite
X-ORIGINAL-URL:https://www.heteroclite.org
X-WR-CALDESC:évènements pour Hétéroclite
BEGIN:VTIMEZONE
TZID:Europe/Helsinki
BEGIN:DAYLIGHT
TZOFFSETFROM:+0200
TZOFFSETTO:+0300
TZNAME:EEST
DTSTART:20150329T010000
END:DAYLIGHT
BEGIN:STANDARD
TZOFFSETFROM:+0300
TZOFFSETTO:+0200
TZNAME:EET
DTSTART:20151025T010000
END:STANDARD
END:VTIMEZONE
BEGIN:VEVENT
DTSTART;TZID=Europe/Helsinki:20150924T200000
DTEND;TZID=Europe/Helsinki:20150924T200000
DTSTAMP:20260423T163749
CREATED:20150529T124925Z
LAST-MODIFIED:20150920T123024Z
UID:22593-1443124800-1443124800@www.heteroclite.org
SUMMARY:Soirée Saint-Germain # 3 avec Jüles @ LiveStation-DIY
DESCRIPTION:Lumières tamisées\, bougies aux reflets rouges et pourpres\, ambiance posée\, musique jazzy\, une ambiance chill\, un verre de vin à la main\, de la bonne charcuterie\, du fromage et\, pour parfaire le tout c’est Jüles (Basse Résolution) aux platines. C’est bon\, vous y êtes. Bienvenue à Saint-Germain-des-Prés.\n  \nJeune artiste en devenir\, ce musicien à la formation classique découvre très tôt l’univers de l’électronique et s’en éprend rapidement. Dans un registre sombre et mélodieux\, Jüles s’illustre par des lives remarqués. Un travail minutieux et soigné\, qui rend chacune de ses performances fortes et envoûtantes.
URL:https://www.heteroclite.org/evenement-heteroclite/soiree-saint-germain-livestation-diy
LOCATION:LiveStation-DIY\, 14 rue de Bonald\, Lyon 7\, Rhône-Alpes\, 69007\, France
END:VEVENT
END:VCALENDAR