BEGIN:VCALENDAR
VERSION:2.0
PRODID:-//Hétéroclite - ECPv5.16.1.1//NONSGML v1.0//EN
CALSCALE:GREGORIAN
METHOD:PUBLISH
X-WR-CALNAME:Hétéroclite
X-ORIGINAL-URL:https://www.heteroclite.org
X-WR-CALDESC:évènements pour Hétéroclite
BEGIN:VTIMEZONE
TZID:Europe/Helsinki
BEGIN:DAYLIGHT
TZOFFSETFROM:+0200
TZOFFSETTO:+0300
TZNAME:EEST
DTSTART:20180325T010000
END:DAYLIGHT
BEGIN:STANDARD
TZOFFSETFROM:+0300
TZOFFSETTO:+0200
TZNAME:EET
DTSTART:20181028T010000
END:STANDARD
END:VTIMEZONE
BEGIN:VEVENT
DTSTART;TZID=Europe/Helsinki:20180224T200000
DTEND;TZID=Europe/Helsinki:20180224T235500
DTSTAMP:20260423T161612
CREATED:20180217T202827Z
LAST-MODIFIED:20180217T202827Z
UID:49486-1519502400-1519516500@www.heteroclite.org
SUMMARY:Soirée super-héros @ Onyx Association
DESCRIPTION:L’Onyx vous propose une soirée super-héros dans le thème de l’exposition Heroes de Sarah Vonko (tableaux vernis réalisés avec des super héros DC et Marvel\, à voir jusqu’au 3 mars).\nÀ l’occasion de cette soirée super-héros\, Elvio\, alias Clark Kent nous dévoilera ses super-pouvoirs jusqu’au plus intime pour laisser monter les désirs les plus fantasmés. Show sexy au super-pouvoir ! \n\n 
URL:https://www.heteroclite.org/evenement-heteroclite/soiree-super-heros-onyx-association
LOCATION:Onyx Association\, 71 rue Ney\, Lyon\, 69006\, France
END:VEVENT
END:VCALENDAR