BEGIN:VCALENDAR
VERSION:2.0
PRODID:-//Hétéroclite - ECPv5.16.1.1//NONSGML v1.0//EN
CALSCALE:GREGORIAN
METHOD:PUBLISH
X-WR-CALNAME:Hétéroclite
X-ORIGINAL-URL:https://www.heteroclite.org
X-WR-CALDESC:évènements pour Hétéroclite
BEGIN:VTIMEZONE
TZID:Europe/Helsinki
BEGIN:DAYLIGHT
TZOFFSETFROM:+0200
TZOFFSETTO:+0300
TZNAME:EEST
DTSTART:20140330T010000
END:DAYLIGHT
BEGIN:STANDARD
TZOFFSETFROM:+0300
TZOFFSETTO:+0200
TZNAME:EET
DTSTART:20141026T010000
END:STANDARD
END:VTIMEZONE
BEGIN:VEVENT
DTSTART;TZID=Europe/Helsinki:20141121T200000
DTEND;TZID=Europe/Helsinki:20141121T200000
DTSTAMP:20260425T141519
CREATED:20141112T123254Z
LAST-MODIFIED:20141118T134714Z
UID:14984-1416600000-1416600000@www.heteroclite.org
SUMMARY:Fête de solidarité internationale contre les LGBTphobies
DESCRIPTION:  \nFête de solidarité internationale organisée par Les Voies d’Elles (association des lesbiennes de Grenoble) et La Chorageuse (chorale féministe de Grenoble) en soutien à des exilé-e-s pour LGBTphobies. Ces personnes sont persécutées et en danger de mort dans leur pays si elles sont découvertes gaies\, lesbiennes\, bisexuelles ou trans. Cabaret de 18h à 20h : osez montrer vos talents de chanteuse\, musicienne\, performeuse\, slameuse\, comédienne\, etc. (inscription par mail à izbel.fournicod@orange.fr). Ensuite\, restauration à prix libre puis boom jusqu’à minuit.\n 
URL:https://www.heteroclite.org/evenement-heteroclite/solidarite-internationale-lgbtphobies
LOCATION:La Salle rouge\, 10 bis rue Ampère\, Grenoble\, 38000
END:VEVENT
END:VCALENDAR