BEGIN:VCALENDAR
VERSION:2.0
PRODID:-//Hétéroclite - ECPv5.16.1.1//NONSGML v1.0//EN
CALSCALE:GREGORIAN
METHOD:PUBLISH
X-WR-CALNAME:Hétéroclite
X-ORIGINAL-URL:https://www.heteroclite.org
X-WR-CALDESC:évènements pour Hétéroclite
BEGIN:VTIMEZONE
TZID:Europe/Helsinki
BEGIN:DAYLIGHT
TZOFFSETFROM:+0200
TZOFFSETTO:+0300
TZNAME:EEST
DTSTART:20150329T010000
END:DAYLIGHT
BEGIN:STANDARD
TZOFFSETFROM:+0300
TZOFFSETTO:+0200
TZNAME:EET
DTSTART:20151025T010000
END:STANDARD
END:VTIMEZONE
BEGIN:VEVENT
DTSTART;TZID=Europe/Helsinki:20150617T193000
DTEND;TZID=Europe/Helsinki:20150617T203000
DTSTAMP:20260419T195610
CREATED:20150601T125447Z
LAST-MODIFIED:20150617T081111Z
UID:22896-1434569400-1434573000@www.heteroclite.org
SUMMARY:Conférence "Sommes-nous homophobes ?"
DESCRIPTION:L’association L’Autre Cercle Rhône-Alpes organise un débat réunissant plusieurs professionnels du milieu médical sur la question de l’homophobie dans le domaine de la santé\, mercredi 17 juin de 19h30 à 20h30 au Centre LGBTI de Lyon.\n  \nÀ la Une de son sixième numéro (janvier-février 2013)\, la revue What’s up doc ?\, le magazine des jeunes médecins\, posait la question suivante : « sommes-nous homophobes ? ». \nPar cette interpellation\, la revue souhaitait interroger le vécu des personnels de santé et les discriminations que peuvent subir une partie d’entre eux en raison de leur orientation sexuelle ou de leur identité de genre. \nL’Autre Cercle Rhône Alpes\, association de lutte contre les discriminations LGBT dans le monde professionnel\, place au cœur de ses priorités d’actions la sensibilisation et l’information du monde de l’entreprise et du public\, en faveur d’une société plus inclusive\, qui appréhende la différence comme une chance pour l’ensemble du corps social. \nEn Juin 2015\, elle invite les professionnels de la santé à s’exprimer sur la question de l’homophobie dans leur milieu professionnel (et non pas dans la relation entre soignant et patient) : soignants et administratifs prendront la parole\, témoigneront de leur expérience et feront part de leurs questionnements au cours d’un apéro-débat Animé par Romain Vallet\, rédacteur-en-chef du mensuel gratuit « gay mais pas que… » Hétéroclite. \n  \nUn verre de l’amitié clôturera cette rencontre.
URL:https://www.heteroclite.org/evenement-heteroclite/sommes-nous-homophobes
LOCATION:Centre LGBTI de Lyon\, 19 rue des Capucins\, Lyon 1\, Rhône-Alpes\, 69001\, France
ORGANIZER;CN="L%27Autre%20Cercle":MAILTO:info.ra@autrecercle.org
END:VEVENT
END:VCALENDAR