BEGIN:VCALENDAR
VERSION:2.0
PRODID:-//Hétéroclite - ECPv5.16.1.1//NONSGML v1.0//EN
CALSCALE:GREGORIAN
METHOD:PUBLISH
X-WR-CALNAME:Hétéroclite
X-ORIGINAL-URL:https://www.heteroclite.org
X-WR-CALDESC:évènements pour Hétéroclite
BEGIN:VTIMEZONE
TZID:Europe/Helsinki
BEGIN:DAYLIGHT
TZOFFSETFROM:+0200
TZOFFSETTO:+0300
TZNAME:EEST
DTSTART:20180325T010000
END:DAYLIGHT
BEGIN:STANDARD
TZOFFSETFROM:+0300
TZOFFSETTO:+0200
TZNAME:EET
DTSTART:20181028T010000
END:STANDARD
END:VTIMEZONE
BEGIN:VEVENT
DTSTART;TZID=Europe/Helsinki:20180615T210000
DTEND;TZID=Europe/Helsinki:20180615T230000
DTSTAMP:20260423T213014
CREATED:20180511T132357Z
LAST-MODIFIED:20180511T132357Z
UID:51562-1529096400-1529103600@www.heteroclite.org
SUMMARY:Fuck les discriminations / Spectacle d’improvisation
DESCRIPTION:La délégation lyonnaise de SOS homophobie organise un spectacle d’improvisation théâtral pour lutter contre la haine anti-LGBT et faire reculer les préjugés par la culture et l’humour.\nLa prévention est l’un des piliers de l’action de SOS homophobie. Celle-ci peut prendre bien des formes. Habitué·e·s de salles de classe et lieux de travail\, les bénévoles de l’association multiplient les initiatives pour toucher des publics variés\, et sensibiliser aux discriminations subies par les personnes lesbiennes\, gaies\, bies et trans’. Et quoi de plus efficace que l’humour pour toucher le plus grand nombre ? Faire rire\, pour faire réfléchir : “Fuck l’homophobie !”\, c’est le spectacle d’improvisation contre les discriminations organisé par SOS homophobie  \n Située sur le campus de l’institut national des sciences appliquées (INSA)\, la salle de spectacle de La Rotonde peut accueillir près de 400 personnes. Les six comédiens et comédiennes de L’émoi divers seront sur scène pour improviser avec l’aide du public différentes saynètes sur l’homophobie\, la biphobie et la transphobie\, dans une ambiance aussi légère que militante. Une dizaine de bénévoles sera sur place pour représenter l’association et accueillir les spectateurs et spectatrices. \nCet événement\, qui a reçu le soutien de la Délégation interministérielle à la lutte contre le racisme\, l’antisémitisme et la haine anti-LGBT (DILCRAH)\, s’inscrit dans le cadre de la Quinzaine des fiertés de Lyon. Avec cette forme de sensibilisation atypique\, la délégation lyonnaise espère ainsi toucher un large public\, notamment étudiant\, et déconstruire les stéréotypes et idées reçues à l’origine des LGBTphobies. Un préambule parfait à la Lesbian & Gay Pride de la ville qui aura lieu le lendemain ! \nTarif 10€ (réduit 8€ étudiants et demandeurs d’emploi).\nBillets en vente sur place mais réservation conseillée par mail à sos-lyon@sos-homophobie.org.\nOuverture des portes 20h. Buvette sur place.\nRecette au bénéfice de SOS homophobie.
URL:https://www.heteroclite.org/evenement-heteroclite/spectacle-dimprovisation-la-rotonde
LOCATION:La Rotonde\, Campus de l'INSA\, Villeurbanne\, Rhône-Alpes\, 69100\, France
END:VEVENT
END:VCALENDAR