BEGIN:VCALENDAR
VERSION:2.0
PRODID:-//Hétéroclite - ECPv5.16.1.1//NONSGML v1.0//EN
CALSCALE:GREGORIAN
METHOD:PUBLISH
X-WR-CALNAME:Hétéroclite
X-ORIGINAL-URL:https://www.heteroclite.org
X-WR-CALDESC:évènements pour Hétéroclite
BEGIN:VTIMEZONE
TZID:Europe/Helsinki
BEGIN:DAYLIGHT
TZOFFSETFROM:+0200
TZOFFSETTO:+0300
TZNAME:EEST
DTSTART:20180325T010000
END:DAYLIGHT
BEGIN:STANDARD
TZOFFSETFROM:+0300
TZOFFSETTO:+0200
TZNAME:EET
DTSTART:20181028T010000
END:STANDARD
END:VTIMEZONE
BEGIN:VEVENT
DTSTART;TZID=Europe/Helsinki:20181007T210000
DTEND;TZID=Europe/Helsinki:20181008T010000
DTSTAMP:20260420T142924
CREATED:20180926T120559Z
LAST-MODIFIED:20180926T120846Z
UID:54550-1538946000-1538960400@www.heteroclite.org
SUMMARY:Stand Bipo.cie : Conférence & Concert @ LiveStation DIY
DESCRIPTION:Le Livestation et Bipo Cie. s’associent pour une soirée spéciale à l’occasion du Lancement de Saison\, et placée sous le signe de l’empowerment de la femme !\nBipo Cie. c’est la rencontre de deux amies qui se rassemblent autour de l’art. Et d’une volonté d’émancipation\, puisque l’art a une dimension de revendication. Alors qu’elles sont opposées sur un sujet polémique\, celui du sexe\, voilà que c’est la plus chaste qui dessine des chattes. Parce que Bipo\, en dehors d’être une belle passion partagée\, est un mouvement d’émancipation. \nClementine Jane est la fraîcheur que le paysage musical attendait. Porteuse d’un projet novateur\, fort d’un son moderne aux accents électroniques et de compositions subtiles\, Clementine Jane séduit par son alliage de douceur et de détermination.\nEmbarquez dans l’aventure synesthétique de ce voyage intemporel qui ne fait que commencer…
URL:https://www.heteroclite.org/evenement-heteroclite/stand-bipo-cie-conference-concert-livestation-diy
LOCATION:LiveStation-DIY\, 14 rue de Bonald\, Lyon 7\, Rhône-Alpes\, 69007\, France
END:VEVENT
END:VCALENDAR