BEGIN:VCALENDAR
VERSION:2.0
PRODID:-//Hétéroclite - ECPv5.16.1.1//NONSGML v1.0//EN
CALSCALE:GREGORIAN
METHOD:PUBLISH
X-WR-CALNAME:Hétéroclite
X-ORIGINAL-URL:https://www.heteroclite.org
X-WR-CALDESC:évènements pour Hétéroclite
BEGIN:VTIMEZONE
TZID:Europe/Helsinki
BEGIN:DAYLIGHT
TZOFFSETFROM:+0200
TZOFFSETTO:+0300
TZNAME:EEST
DTSTART:20150329T010000
END:DAYLIGHT
BEGIN:STANDARD
TZOFFSETFROM:+0300
TZOFFSETTO:+0200
TZNAME:EET
DTSTART:20151025T010000
END:STANDARD
END:VTIMEZONE
BEGIN:VEVENT
DTSTART;TZID=Europe/Helsinki:20150624T200000
DTEND;TZID=Europe/Helsinki:20150624T234500
DTSTAMP:20260419T220818
CREATED:20150529T122100Z
LAST-MODIFIED:20150619T113841Z
UID:22589-1435176000-1435189500@www.heteroclite.org
SUMMARY:Stonn & Friends #4 @ LiveStation DIY
DESCRIPTION:  \nL’un des deux fondateurs du collectif Paraplui\, Stonn\, vous convie pour une petite résidence mensuelle entre ami(e)s au LiveStation DIY.\n\nPour cette 4e édition\, Stonn invite Ecoute Prolongée\, en session live ! \n 
URL:https://www.heteroclite.org/evenement-heteroclite/stonn-friends-4-livestation-diy
LOCATION:LiveStation-DIY\, 14 rue de Bonald\, Lyon 7\, Rhône-Alpes\, 69007\, France
END:VEVENT
END:VCALENDAR