BEGIN:VCALENDAR
VERSION:2.0
PRODID:-//Hétéroclite - ECPv5.16.1.1//NONSGML v1.0//EN
CALSCALE:GREGORIAN
METHOD:PUBLISH
X-WR-CALNAME:Hétéroclite
X-ORIGINAL-URL:https://www.heteroclite.org
X-WR-CALDESC:évènements pour Hétéroclite
BEGIN:VTIMEZONE
TZID:Europe/Helsinki
BEGIN:DAYLIGHT
TZOFFSETFROM:+0200
TZOFFSETTO:+0300
TZNAME:EEST
DTSTART:20170326T010000
END:DAYLIGHT
BEGIN:STANDARD
TZOFFSETFROM:+0300
TZOFFSETTO:+0200
TZNAME:EET
DTSTART:20171029T010000
END:STANDARD
END:VTIMEZONE
BEGIN:VEVENT
DTSTART;TZID=Europe/Helsinki:20170714T230000
DTEND;TZID=Europe/Helsinki:20170715T060000
DTSTAMP:20260420T172829
CREATED:20170628T113505Z
LAST-MODIFIED:20170628T113702Z
UID:44815-1500073200-1500098400@www.heteroclite.org
SUMMARY:Tam.k & Sara Costa à l' Impérial Discothèque de Lyon
DESCRIPTION:L’Impérial a ouvert en décembre 2015 en lieu et place de feu Le Crazy. Pour la fête nationale\, le club accueillera les Dj’s Tam.K & Sara Costa.\nOriginaires des Lyon\, Tam.K & Sara Costa sont deux passionnées de musique. L’une dans l’univers Electro House\, l’autre dans l’univers Hip Hop/R’N’B. Après avoir parcouru de nombreux clubs en France et à l’international\, elles ont décidé de prendre le contrôle de l’Impérial pour un mélange de styles percutants le vendredi 14 juillet. Gratuit avant minuit\, 10€ avec une conso après minuit\, 20€ avec 4 consos sur yurplan. \nTam.K : Deep house \, Tech house \, G-House\nhttps://www.facebook.com/TamK-437365419642710/ \nSara Costa : Urbain\, Hip Hop \, R’n’B\nhttps://www.facebook.com/saracostamusic/
URL:https://www.heteroclite.org/evenement-heteroclite/tam-k-sara-costa-a-l-imperial
LOCATION:L’Impérial\, 24 rue Royale\, Lyon 1\, 69001\, France
END:VEVENT
END:VCALENDAR