BEGIN:VCALENDAR
VERSION:2.0
PRODID:-//Hétéroclite - ECPv5.16.1.1//NONSGML v1.0//EN
CALSCALE:GREGORIAN
METHOD:PUBLISH
X-WR-CALNAME:Hétéroclite
X-ORIGINAL-URL:https://www.heteroclite.org
X-WR-CALDESC:évènements pour Hétéroclite
BEGIN:VTIMEZONE
TZID:Europe/Helsinki
BEGIN:DAYLIGHT
TZOFFSETFROM:+0200
TZOFFSETTO:+0300
TZNAME:EEST
DTSTART:20170326T010000
END:DAYLIGHT
BEGIN:STANDARD
TZOFFSETFROM:+0300
TZOFFSETTO:+0200
TZNAME:EET
DTSTART:20171029T010000
END:STANDARD
END:VTIMEZONE
BEGIN:VEVENT
DTSTART;TZID=Europe/Helsinki:20170205T180000
DTEND;TZID=Europe/Helsinki:20170205T220000
DTSTAMP:20260422T162627
CREATED:20170205T110754Z
LAST-MODIFIED:20170205T110754Z
UID:39321-1486317600-1486332000@www.heteroclite.org
SUMMARY:Tea-dance avec Félix @ Le Lavoir public
DESCRIPTION:Toi aussi\, avant\, tu chantais Je hais les dimanches ? Et bien découvre le tea-dance du Lavoir public avec Félix ! L’antidote à la déprime\, bientôt remboursé par la Sécu. Tenues improbables\, gueules de bois et jolis cœurs sont les bienvenus.\nUn vent disco-pop patiné de house music soufflera sur les bassins du Lavoir public grâce à Félix ! Il saura vous faire vous trémousser avant d’aller au lit\, seul-e ou accompagné-e. Le Studio 54 n’est pas bien loin… Viens atterrir avec nous en bonne compagnie\, bienvenue à la closing party de notre week-end d’anniversaire. Après\, on attaque l’an VI ! Ni réservation ni CB.
URL:https://www.heteroclite.org/evenement-heteroclite/tea-dance-felix-lavoir-public-lyon
LOCATION:Le Lavoir public\, 4 impasse Flesselles\, Lyon 1\, Rhône-Alpes\, 69001\, France
END:VEVENT
END:VCALENDAR