BEGIN:VCALENDAR
VERSION:2.0
PRODID:-//Hétéroclite - ECPv5.16.1.1//NONSGML v1.0//EN
CALSCALE:GREGORIAN
METHOD:PUBLISH
X-WR-CALNAME:Hétéroclite
X-ORIGINAL-URL:https://www.heteroclite.org
X-WR-CALDESC:évènements pour Hétéroclite
BEGIN:VTIMEZONE
TZID:Europe/Helsinki
BEGIN:DAYLIGHT
TZOFFSETFROM:+0200
TZOFFSETTO:+0300
TZNAME:EEST
DTSTART:20170326T010000
END:DAYLIGHT
BEGIN:STANDARD
TZOFFSETFROM:+0300
TZOFFSETTO:+0200
TZNAME:EET
DTSTART:20171029T010000
END:STANDARD
END:VTIMEZONE
BEGIN:VEVENT
DTSTART;TZID=Europe/Helsinki:20170826T233000
DTEND;TZID=Europe/Helsinki:20170827T053000
DTSTAMP:20260421T140624
CREATED:20170818T153844Z
LAST-MODIFIED:20170818T153844Z
UID:45788-1503790200-1503811800@www.heteroclite.org
SUMMARY:The White Party @ Le George V Grenoble
DESCRIPTION:Venez mettre en valeur votre bronzage estival avec cette White Party au George V. Dress-code : blanc. Déco blanche et lumières noires. Dj’s : Airely et Lenox.\nSeul club gay-friendly de Grenoble\, le George V se divise en deux salles pour deux ambiances : disco à un étage\, électro à l’autre. Ouvert du jeudi au samedi\, le George V propose chaque week-end des soirées à thème comme la fameuse Nuit de la suce ou la Champagne Showers.
URL:https://www.heteroclite.org/evenement-heteroclite/the-white-party-george-v-grenoble
LOCATION:Le George V\, 124 cours Berriat\, Grenoble\, Rhône-Alpes\, 38000\, France
END:VEVENT
END:VCALENDAR