BEGIN:VCALENDAR
VERSION:2.0
PRODID:-//Hétéroclite - ECPv5.16.1.1//NONSGML v1.0//EN
CALSCALE:GREGORIAN
METHOD:PUBLISH
X-WR-CALNAME:Hétéroclite
X-ORIGINAL-URL:https://www.heteroclite.org
X-WR-CALDESC:évènements pour Hétéroclite
BEGIN:VTIMEZONE
TZID:Europe/Helsinki
BEGIN:DAYLIGHT
TZOFFSETFROM:+0200
TZOFFSETTO:+0300
TZNAME:EEST
DTSTART:20150329T010000
END:DAYLIGHT
BEGIN:STANDARD
TZOFFSETFROM:+0300
TZOFFSETTO:+0200
TZNAME:EET
DTSTART:20151025T010000
END:STANDARD
END:VTIMEZONE
BEGIN:VEVENT
DTSTART;TZID=Europe/Helsinki:20150617T200000
DTEND;TZID=Europe/Helsinki:20150617T235500
DTSTAMP:20260421T140738
CREATED:20150608T141917Z
LAST-MODIFIED:20150617T083217Z
UID:23514-1434571200-1434585300@www.heteroclite.org
SUMMARY:Transidentité et parentalité @ Les Feuillants
DESCRIPTION:Le bar mixte Les Feuillants accueille l’association le Jardin des T pour une conférence le 17 juin.\n  \nL’équipe du Jardin des T vous propose un cercle de discussion autour de la transidentité et de la parentalité \nConférence gratuite.
URL:https://www.heteroclite.org/evenement-heteroclite/transidentite-et-parentalite-les-feuillants
END:VEVENT
END:VCALENDAR