BEGIN:VCALENDAR
VERSION:2.0
PRODID:-//Hétéroclite - ECPv5.16.1.1//NONSGML v1.0//EN
CALSCALE:GREGORIAN
METHOD:PUBLISH
X-WR-CALNAME:Hétéroclite
X-ORIGINAL-URL:https://www.heteroclite.org
X-WR-CALDESC:évènements pour Hétéroclite
BEGIN:VTIMEZONE
TZID:Europe/Helsinki
BEGIN:DAYLIGHT
TZOFFSETFROM:+0200
TZOFFSETTO:+0300
TZNAME:EEST
DTSTART:20150329T010000
END:DAYLIGHT
BEGIN:STANDARD
TZOFFSETFROM:+0300
TZOFFSETTO:+0200
TZNAME:EET
DTSTART:20151025T010000
END:STANDARD
END:VTIMEZONE
BEGIN:VEVENT
DTSTART;TZID=Europe/Helsinki:20150619T200000
DTEND;TZID=Europe/Helsinki:20150619T220000
DTSTAMP:20260420T142933
CREATED:20150528T144348Z
LAST-MODIFIED:20150619T085449Z
UID:22541-1434744000-1434751200@www.heteroclite.org
SUMMARY:Un monument en mémoire des victimes LGBT
DESCRIPTION:  \nDepuis quelques années et plus récemment\, des monuments à la mémoire des victimes LGBT voient le jour dans plusieurs villes du monde. En France le mouvement LGBT et plus largement espère un lieu où un monument en France qui rassemblera leurs mémoires.\n  \nAvec le soutien de plusieurs associations LGBT\, l’association Les «Oublié-e-s» de la Mémoire lance une dynamique et portera le projet. Ce projet doit être le votre\, alors venez participer à une rencontre participative pour la création d’un monument LGBT en France. \nPour en discuter ensemble\, rendez-vous aux Feuillants le 19 juin !
URL:https://www.heteroclite.org/evenement-heteroclite/un-monument-en-memoire-des-victimes-lgbt
END:VEVENT
END:VCALENDAR