BEGIN:VCALENDAR
VERSION:2.0
PRODID:-//Hétéroclite - ECPv5.16.1.1//NONSGML v1.0//EN
CALSCALE:GREGORIAN
METHOD:PUBLISH
X-WR-CALNAME:Hétéroclite
X-ORIGINAL-URL:https://www.heteroclite.org
X-WR-CALDESC:évènements pour Hétéroclite
BEGIN:VTIMEZONE
TZID:Europe/Helsinki
BEGIN:DAYLIGHT
TZOFFSETFROM:+0200
TZOFFSETTO:+0300
TZNAME:EEST
DTSTART:20160327T010000
END:DAYLIGHT
BEGIN:STANDARD
TZOFFSETFROM:+0300
TZOFFSETTO:+0200
TZNAME:EET
DTSTART:20161030T010000
END:STANDARD
END:VTIMEZONE
BEGIN:VEVENT
DTSTART;TZID=Europe/Helsinki:20161124T180000
DTEND;TZID=Europe/Helsinki:20161124T220000
DTSTAMP:20260421T111538
CREATED:20161017T122209Z
LAST-MODIFIED:20161017T122209Z
UID:36633-1480010400-1480024800@www.heteroclite.org
SUMMARY:Une chambre en ville @ Café Zimmerman
DESCRIPTION:Une chambre en ville\, c’est une soirée comme à la maison avec Rescue en bedroom Dj. Chillo\, disco & weirdo. On aura le droit de commander ses cocktails en chantant !
URL:https://www.heteroclite.org/evenement-heteroclite/une-chambre-en-ville-cafe-zimmerman
LOCATION:Café Zimmerman\, 1 rue de Lionne\, Grenoble\, 38000\, France
END:VEVENT
END:VCALENDAR