BEGIN:VCALENDAR
VERSION:2.0
PRODID:-//Hétéroclite - ECPv5.16.1.1//NONSGML v1.0//EN
CALSCALE:GREGORIAN
METHOD:PUBLISH
X-WR-CALNAME:Hétéroclite
X-ORIGINAL-URL:https://www.heteroclite.org
X-WR-CALDESC:évènements pour Hétéroclite
BEGIN:VTIMEZONE
TZID:Europe/Helsinki
BEGIN:DAYLIGHT
TZOFFSETFROM:+0200
TZOFFSETTO:+0300
TZNAME:EEST
DTSTART:20170326T010000
END:DAYLIGHT
BEGIN:STANDARD
TZOFFSETFROM:+0300
TZOFFSETTO:+0200
TZNAME:EET
DTSTART:20171029T010000
END:STANDARD
END:VTIMEZONE
BEGIN:VEVENT
DTSTART;TZID=Europe/Helsinki:20170714T213000
DTEND;TZID=Europe/Helsinki:20170715T010000
DTSTAMP:20260420T202038
CREATED:20170621T092709Z
LAST-MODIFIED:20170621T092709Z
UID:44451-1500067800-1500080400@www.heteroclite.org
SUMMARY:La Vogue Des Margaudes - Intérieur Queer - Les Feuillants
DESCRIPTION:La Zouzance créé un mini festival\, La Vogue Des Margaudes\, featuré dans le circuit du Festival Intérieur Queer le 14 juillet.\nLe collectif parisien la ZouZance débarque à Lyon et s’associe à la Bonnie&Clit pour un minifestival électro\, La Vogue Des Margaudes\, qui fait la part belle aux meufs et aux queers créativEs\, inspiréEs et inspirantEs. Musique\, photo\, tattoo\, lecture et hybrides en tous genres bienvenue dans la galaxie des margaudes : un big bang perpétuel de création et de paillettes. L’entrée est gratuite. \n 
URL:https://www.heteroclite.org/evenement-heteroclite/vogue-margaudes-festival-interieur-queer-feuillants
END:VEVENT
END:VCALENDAR