BEGIN:VCALENDAR
VERSION:2.0
PRODID:-//Hétéroclite - ECPv5.16.1.1//NONSGML v1.0//EN
CALSCALE:GREGORIAN
METHOD:PUBLISH
X-WR-CALNAME:Hétéroclite
X-ORIGINAL-URL:https://www.heteroclite.org
X-WR-CALDESC:évènements pour Hétéroclite
BEGIN:VTIMEZONE
TZID:Europe/Helsinki
BEGIN:DAYLIGHT
TZOFFSETFROM:+0200
TZOFFSETTO:+0300
TZNAME:EEST
DTSTART:20180325T010000
END:DAYLIGHT
BEGIN:STANDARD
TZOFFSETFROM:+0300
TZOFFSETTO:+0200
TZNAME:EET
DTSTART:20181028T010000
END:STANDARD
END:VTIMEZONE
BEGIN:VEVENT
DTSTART;TZID=Europe/Helsinki:20180302T220000
DTEND;TZID=Europe/Helsinki:20180302T220000
DTSTAMP:20260421T002531
CREATED:20151020T073727Z
LAST-MODIFIED:20180226T090532Z
UID:26600-1520028000-1520028000@www.heteroclite.org
SUMMARY:We Love House Music w/ Esteban Garcia @ La Chapelle
DESCRIPTION:La Chapelle Café accueille une nouvelle soirée house allant du nu funk à la tech-house. Dj : Esteban Garcia. Apéro-planche à partir de 19h\, mix à partir de 22h.\nLe principal atout de La Chapelle Café est évidemment sa très grande terrasse offrant une vue imprenable sur la basilique de Fourvière. Mais l’intérieur n’est pas à négliger pour autant\, avec ses 200m² récemment refaits à neuf et une ambiance cosy à l’étage. L’établissement organise régulièrement des soirées en week-end et propose depuis peu un service restauration le midi\, de mai à septembre. \nwww.facebook.com/La-Chapelle-Caf%C3%A9-291067564242845
URL:https://www.heteroclite.org/evenement-heteroclite/we-love-house-music-la-chapelle-cafe
LOCATION:La Chapelle Café\, 8 quai des Célestins\, Lyon 2\, Rhône-Alpes\, 69002\, France
END:VEVENT
END:VCALENDAR