BEGIN:VCALENDAR
VERSION:2.0
PRODID:-//Hétéroclite - ECPv5.16.1.1//NONSGML v1.0//EN
CALSCALE:GREGORIAN
METHOD:PUBLISH
X-WR-CALNAME:Hétéroclite
X-ORIGINAL-URL:https://www.heteroclite.org
X-WR-CALDESC:évènements pour Hétéroclite
BEGIN:VTIMEZONE
TZID:Europe/Helsinki
BEGIN:DAYLIGHT
TZOFFSETFROM:+0200
TZOFFSETTO:+0300
TZNAME:EEST
DTSTART:20160327T010000
END:DAYLIGHT
BEGIN:STANDARD
TZOFFSETFROM:+0300
TZOFFSETTO:+0200
TZNAME:EET
DTSTART:20161030T010000
END:STANDARD
END:VTIMEZONE
BEGIN:VEVENT
DTSTART;TZID=Europe/Helsinki:20160402T210000
DTEND;TZID=Europe/Helsinki:20160403T030000
DTSTAMP:20260421T124339
CREATED:20151116T133144Z
LAST-MODIFIED:20160613T153632Z
UID:27050-1459630800-1459652400@www.heteroclite.org
SUMMARY:Week-end dog-training animé par Masutakawa
DESCRIPTION:Pour cette session dog-training au Men Club animée par Masutakawa\, prépare tes chiots\, tes chiens\, ta cage\, ta laisse\, ta muselière\, ta gamelle\, tes os et tous tes jouets ! Qui sera le maître ? Atelier de 22h à 23h. Buffet\, vestiaire et une conso offerts.\nDirigé par le très sympathique François\, le Men Club propose des soirées “Adam” (naturistes) le dimanche\, plusieurs soirées à thème (“gang-bang”\, “black-out”\, “bears”\, “sport 100% dépravé”) en alternance le jeudi et divers événements le week-end (sessions uro\, bondage\, fist-fucking\, dog-training\, etc.). Ce bar et sex-club associatif dispose de nombreux équipements\, tous d’une hygiène irréprochable : des slings\, une backroom\, une zone uro\, un palan et ses accessoires\, une cage… \nwww.lemenclub.com
URL:https://www.heteroclite.org/evenement-heteroclite/week-end-dog-training-masutakawa
END:VEVENT
END:VCALENDAR