BEGIN:VCALENDAR
VERSION:2.0
PRODID:-//Hétéroclite - ECPv5.16.1.1//NONSGML v1.0//EN
CALSCALE:GREGORIAN
METHOD:PUBLISH
X-WR-CALNAME:Hétéroclite
X-ORIGINAL-URL:https://www.heteroclite.org
X-WR-CALDESC:évènements pour Hétéroclite
BEGIN:VTIMEZONE
TZID:Europe/Helsinki
BEGIN:DAYLIGHT
TZOFFSETFROM:+0200
TZOFFSETTO:+0300
TZNAME:EEST
DTSTART:20170326T010000
END:DAYLIGHT
BEGIN:STANDARD
TZOFFSETFROM:+0300
TZOFFSETTO:+0200
TZNAME:EET
DTSTART:20171029T010000
END:STANDARD
END:VTIMEZONE
BEGIN:VEVENT
DTSTART;TZID=Europe/Helsinki:20170225T130000
DTEND;TZID=Europe/Helsinki:20170225T180000
DTSTAMP:20260420T230211
CREATED:20170207T095231Z
LAST-MODIFIED:20170207T095231Z
UID:39374-1488027600-1488045600@www.heteroclite.org
SUMMARY:Wiki+Pride\, atelier numérique participatif sur Wikipédia
DESCRIPTION:Site web parmi les plus visités au monde\, Wikipédia est un lieu d’expérimentation politique et culturelle devenu incontournable. La question de la visibilité des minorités sexuelles sur cette encyclopédie collaborative est particulièrement importante à l’heure où la transmission d’une mémoire lesbienne\, gay\, bie et trans pose question au sein des communautés.\nPendant deux jours\, nous invitons le public des bibliothèques à se réunir pour rédiger et améliorer collectivement les articles Wikipédia dédiés aux luttes LGBT\, aux droits des personnes séropositives\, aux travailleuses et travailleurs du sexe et à l’histoire des rapports de sexualité en général. Qu’ils s’agissent des domaines artistiques\, militants\, littéraires ou historiques\, enrichissez votre culture queer en la mettant au profit de tous.tes ! \nComment participer\nÉcrire sur Wikipédia n’est pas réservé aux historiens ou aux sociologues : l’écriture y est libre\, ouverte et collaborative. Tout au long de l’évènement\, des wikipédien.nes et documentalistes seront présent.e.s pour vous guider dans le sourçage et la construction de vos articles et dans vos recherches documentaires. \nSi l’écriture vous tente peu\, il y a d’autres façons de contribuer : en trouvant des illustrations libres sur le web\, en corrigeant ou en débattant dans les onglets «Discussion». Il est même possible d’enrichir Wikipédia en déposant ses propres photographies\, documents et archives dans le domaine public. \nTracts\, photographies\, ouvrages\, fanzines et archives personnelles diverses sont les bienvenues ! \nLes ordinateurs portables équipés en Wifi sont vivement recommandés. Des ordinateurs de la bibliothèque seront disponibles pour les personnes qui en auraient besoin\, dans la limite des PC disponibles. \nDeux jours de rencontres et d’écritures collectives ouvertes à tou-te-s\, organisés par les médiateurs.trices numériques des Bibliothèques Municipales de Lyon dans le cadre de “Démocratie : Rêver\, penser\, agir ensemble“.
URL:https://www.heteroclite.org/evenement-heteroclite/wikipride-atelier-numerique-wikipedia-2017-02-25
LOCATION:Bibliothèque municipale du 7ème arrondissement\, 2 rue Domer\, Lyon 7\, 69007\, France
END:VEVENT
END:VCALENDAR